BEGIN:VCALENDAR
VERSION:2.0
PRODID:https://github.com/derhansen/sf_event_mgt
METHOD:PUBLISH
BEGIN:VEVENT
UID:14787-611@www.maine-et-loire.fr
CLASS: PUBLIC
SUMMARY:Sortie crépusculaire
DESCRIPTION:Dans le cadre des Rendez-vous nature 2026.\n\nAu cours d'une ba
 lade crépusculaire, découvrez les animaux mystérieux de la forêt de Ch
 ambiers, tel que l'Engoulevent d'Europe et les chauves-souris.
LOCATION:Parking communal, face au 2147 Chambiers
DTSTAMP:20260209T153224Z
DTSTART:20260619T115539Z
DTEND:20260629T115539Z
END:VEVENT
END:VCALENDAR