BEGIN:VCALENDAR
VERSION:2.0
PRODID:https://github.com/derhansen/sf_event_mgt
METHOD:PUBLISH
BEGIN:VEVENT
UID:14877-611@www.maine-et-loire.fr
CLASS: PUBLIC
SUMMARY:Spectacle l'eau et la nature
DESCRIPTION:Dans le cadre des Rendez-vous nature 2026.\n\nPlongez dans une 
 balade nature contée, ponctuée d’intermèdes chantés et musicaux. Vou
 s explorerez les richesses de l’eau et de la biodiversité, au fil d'un 
 parcours sensible et partagé.
LOCATION:La Croix Joreau
DTSTAMP:20260209T154305Z
DTSTART:20260912T115540Z
DTEND:20260912T115540Z
END:VEVENT
END:VCALENDAR