BEGIN:VCALENDAR
VERSION:2.0
PRODID:https://github.com/derhansen/sf_event_mgt
METHOD:PUBLISH
BEGIN:VEVENT
UID:14932-569@www.maine-et-loire.fr
CLASS: PUBLIC
SUMMARY:Stage arts du cirque du 20 au 24 avril 2026
DESCRIPTION:Les stages dâ€™initiation aux arts du cirque\n\nVous cherchez u
 ne idÃ©e dâ€™activitÃ© originale et sympa pour occuper vos enfants pendant
  les vacances scolaires ?\n\nA chaque pÃ©riode de vacances scolaires, Â« L
 a CarriÃ¨re Â», Ã‰cole de cirque situÃ©e dans lâ€™agglomÃ©ration angevine,
  propose aux enfants Ã¢gÃ©s de 5 Ã  14 ans des stages dâ€™initiation et de
  perfectionnement aux arts du cirque. Pendant 5 jours, les enfants partici
 pent Ã  une activitÃ© sportive et artistique. Ces stages permettent aux en
 fants de dÃ©couvrir diffÃ©rentes disciplines circassiennes et aussi de crÃ
 ©er des liens avec dâ€™autres enfants. Ils profitent de leurs vacances tou
 t en sâ€™amusant avec des copains de leur Ã¢ge !\n\nObjectifs :\n\nLâ€™eng
 agement sâ€™effectue dans un cadre professionnel, sur une semaine du lundi
  au vendredi afin de :\n\nâ€¢ DÃ©couvrir de nouvelles sensations\n\nâ€¢ DÃ
 ©velopper la confiance en soi et envers Â« lâ€™autre Â»\n\nâ€¢ Dynamiser l
 e travail en groupe\n\nâ€¢ DÃ©tourner lâ€™objet pour stimuler son potentie
 l crÃ©atif\n\nDisciplines pratiquÃ©es :\n\nâ€¢ AÃ©riens : trapÃ¨ze, tissus
 , cerceaux, cordeâ€¦\n\nâ€¢ Acrobatie : mÃ¢t chinois, portÃ©s, mini trampo
 line,\n\nâ€¢ Ã‰quilibre sur objet : fil, boule, rolla-bolla, Ã©chasses, mo
 nocycleâ€¦\n\nâ€¢ Jonglage : balles, cerceaux, massues, assiettes chinoise
 s, diabolosâ€¦\n\nâ€¢ Jeux d'expression et de crÃ©ativitÃ©
LOCATION:Ã‰cole des arts du cirque la CarriÃ¨re 
61 - 63 Rue de la Paperie
DTSTAMP:20260122T092827Z
DTSTART:20260419T220000Z
DTEND:20260423T220000Z
END:VEVENT
END:VCALENDAR