BEGIN:VCALENDAR
VERSION:2.0
PRODID:https://github.com/derhansen/sf_event_mgt
METHOD:PUBLISH
BEGIN:VEVENT
UID:14977-569@www.maine-et-loire.fr
CLASS: PUBLIC
SUMMARY:Stellar Music Ensemble - Telesmatika
DESCRIPTION:Un imaginaire céleste porteur d’histoires...\n\nL’Ensemble
  explore les sonorités du monde, en lien avec l'astrologie et nos émotio
 ns. Les interprètes s’associent aux élèves des six écoles de musiqu
 e des Mauges pour un voyage imaginaire astral.
LOCATION:Théâtre Foirail
105 Avenue du Général de Gaulle
DTSTAMP:20260126T082639Z
DTSTART:20260523T220000Z
DTEND:20260523T220000Z
END:VEVENT
END:VCALENDAR