BEGIN:VCALENDAR
VERSION:2.0
PRODID:https://github.com/derhansen/sf_event_mgt
METHOD:PUBLISH
BEGIN:VEVENT
UID:14960-569@www.maine-et-loire.fr
CLASS: PUBLIC
SUMMARY:Stellar Music Ensemble - Telesmatika
DESCRIPTION:Un imaginaire céleste porteur d’histoires... L’Ensemble ex
 plore les sonorités du monde, en lien avec l'astrologie et nos émotions.
  Les interprètes s’associent aux élèves des six écoles de musique de
 s Mauges pour un voyage imaginaire astral
LOCATION:Théâtre Foirail
105 Avenue du  Général de Gaule
DTSTAMP:20260123T145525Z
DTSTART:20260522T220000Z
DTEND:20260522T220000Z
END:VEVENT
END:VCALENDAR