BEGIN:VCALENDAR
VERSION:2.0
PRODID:https://github.com/derhansen/sf_event_mgt
METHOD:PUBLISH
BEGIN:VEVENT
UID:14925-611@www.maine-et-loire.fr
CLASS: PUBLIC
SUMMARY:Sur la piste animale
DESCRIPTION:Dans le cadre des Rendez-vous nature 2026.\n\nMais qui est pass
 é par là ? Le Vallon de Misengrain, véritable corridor écologique, acc
 ueille un grand nombre de nos voisins sauvages. Découvrez les signes à o
 bserver pour connaître les espèces animales de ce site préservé (empre
 intes, coulées...).
LOCATION:Parc de loisirs Saint Blaise
DTSTAMP:20260209T154758Z
DTSTART:20261031T125540Z
DTEND:20261031T125540Z
END:VEVENT
END:VCALENDAR