BEGIN:VCALENDAR
VERSION:2.0
PRODID:https://github.com/derhansen/sf_event_mgt
METHOD:PUBLISH
BEGIN:VEVENT
UID:14844-611@www.maine-et-loire.fr
CLASS: PUBLIC
SUMMARY:Sur la piste des oiseaux
DESCRIPTION:Dans le cadre des Rendez-vous nature 2026.\n\nChasse aux tréso
 rs ponctuée d’énigmes et d’indices dissimulés dans la nature, petit
 s et grands ouvriront grand leurs yeux et leurs oreilles pour découvrir l
 es secrets des oiseaux : leurs chants, leurs couleurs, leurs nids et leurs
  habitudes fascinantes.
LOCATION:Base de loisir
23 rue des étangs
Pouancé
DTSTAMP:20260209T153842Z
DTSTART:20260819T115539Z
DTEND:20260819T115539Z
END:VEVENT
END:VCALENDAR