BEGIN:VCALENDAR
VERSION:2.0
PRODID:https://github.com/derhansen/sf_event_mgt
METHOD:PUBLISH
BEGIN:VEVENT
UID:13605-570@www.maine-et-loire.fr
CLASS: PUBLIC
SUMMARY:Sur les pas des ripeurs
DESCRIPTION:Ce spectacle immersif au casque témoigne de la vie des conduct
 eurs et ripeurs qui parcourent le territoire tous les jours. Les déchets 
 permettent de donner la parole et rencontrer les habitants.
LOCATION:Synergie 
21 Avenue de Bon Air
49110 Saint-Pierre-Montlimart
DTSTAMP:20260205T075857Z
DTSTART:20260428T220000Z
DTEND:20260428T220000Z
END:VEVENT
END:VCALENDAR