BEGIN:VCALENDAR
VERSION:2.0
PRODID:https://github.com/derhansen/sf_event_mgt
METHOD:PUBLISH
BEGIN:VEVENT
UID:14234-570@www.maine-et-loire.fr
CLASS: PUBLIC
SUMMARY:Surcouf
DESCRIPTION:Ils arrivent au rythme de l’eau, on pourrait presque penser q
 u’ils imposent leur rythme à l’eau.\n\nLe spectacle aura lieu ici, su
 r ce radeau, stable, petit mais suffisant.
LOCATION:sur la rivière
DTSTAMP:20251231T135151Z
DTSTART:20260530T220000Z
DTEND:20260530T220000Z
END:VEVENT
END:VCALENDAR