BEGIN:VCALENDAR
VERSION:2.0
PRODID:https://github.com/derhansen/sf_event_mgt
METHOD:PUBLISH
BEGIN:VEVENT
UID:15294-569@www.maine-et-loire.fr
CLASS: PUBLIC
SUMMARY:TablÃ©e villageoise
DESCRIPTION:Pour clore lâ€™Ã©tÃ© en beautÃ©, rendez-vous Ã  la traditionnel
 le tablÃ©e villageoise !\n\nLes artisans et commerÃ§ants locaux sont mis Ã
   lâ€™honneur : repas et dessert seront confectionnÃ©s par lâ€™Å’il de BÅ“
 uf et la boulangerie de ParÃ§ay-les-Pins.\n\nPour accompagner ce festin, u
 ne fanfare dÃ©ambulera au milieu des tablÃ©es, diffusant bonne humeur et r
 ythmes entraÃ®nants pour faire danser petits et grands.\n\nNe manquez pas 
 cet Ã©vÃ©nement pour repartir avec de beaux souvenirs plein la tÃªte !\n\n
 Au menu : Jambalaya poulet-chorizo, duo de fromages brie-comtÃ©, pÃªche me
 lba, 1 petit pain.\n\nAnimation musicale : Musique de Noyant.
LOCATION:Place de l'Ã©glise
ParÃ§ay-les-Pins
DTSTAMP:20260402T135352Z
DTSTART:20260827T220000Z
DTEND:20260827T220000Z
END:VEVENT
END:VCALENDAR