BEGIN:VCALENDAR
VERSION:2.0
PRODID:https://github.com/derhansen/sf_event_mgt
METHOD:PUBLISH
BEGIN:VEVENT
UID:14233-570@www.maine-et-loire.fr
CLASS: PUBLIC
SUMMARY:The Horsemen
DESCRIPTION:Trois fameux écuyers français vont exécuter une démonstrati
 on de dressage, en vue des prochains jeux olympiques. Malgré quelques rat
 és, ils gardent imperturbablement la « French attitude ».
LOCATION:Centre bourg de Cheffes
DTSTAMP:20251231T135055Z
DTSTART:20260529T220000Z
DTEND:20260529T220000Z
END:VEVENT
END:VCALENDAR