BEGIN:VCALENDAR
VERSION:2.0
PRODID:https://github.com/derhansen/sf_event_mgt
METHOD:PUBLISH
BEGIN:VEVENT
UID:15298-569@www.maine-et-loire.fr
CLASS: PUBLIC
SUMMARY:ThÃ©Ã¢tre - Votre Maman de Jean-Claude GRUMBERG
DESCRIPTION:Une maman, son histoire et ses pertes de mÃ©moires, ses trois e
 nfants et lâ€™institution qui lâ€™accueille au travers de son directeur, s
 on adjointe et lâ€™infirmiÃ¨re coordinatrice.\n\nFace Ã  face, la vie qui 
 sâ€™achÃ¨ve, la vie qui continue et la gestion de lâ€™institution. Mais câ
 €™est surtout une comÃ©die et un trait poÃ©tique qui attendent les spectat
 eurs de cette piÃ¨ce de Jean Claude Grunberg.
LOCATION:Salle RenÃ© BESSON
VAUCHRETIEN
DTSTAMP:20260403T133459Z
DTSTART:20260424T220000Z
DTEND:20260424T220000Z
END:VEVENT
END:VCALENDAR