BEGIN:VCALENDAR
VERSION:2.0
PRODID:https://github.com/derhansen/sf_event_mgt
METHOD:PUBLISH
BEGIN:VEVENT
UID:15297-569@www.maine-et-loire.fr
CLASS: PUBLIC
SUMMARY:Théâtre - Votre Maman
DESCRIPTION:Venez découvrir notre nouvelle pièce de théâtre le 25 et 26
  avril !\n\nLa compagnie adulte de l’association Pièce à Conviction a 
 le plaisir de vous inviter à sa toute nouvelle représentation de théât
 re amateur !\n\nPlongez dans un moment convivial, riche en émotions, entr
 e rires et surprises, porté par des comédiens passionnés !\n\nVenez nom
 breux soutenir le théâtre amateur et partager un beau moment en famille 
 ou entre amis.\n\nOn vous attend avec impatience !\n\nUne maman, son histo
 ire et ses pertes de mémoires, ses trois enfants et l’institution qui l
 ’accueille au travers de son directeur, son adjointe et l’infirmière 
 coordinatrice.\n\nFace à face, la vie qui s’achève, la vie qui continu
 e et la gestion de l’institution. Mais c’est surtout une comédie et u
 n trait poétique qui attendent les spectateurs de cette pièce de Jean Cl
 aude Grunberg.
LOCATION:Salle René Besson
1 route d'Allençon
Vauchrétien
DTSTAMP:20260403T132910Z
DTSTART:20260424T220000Z
DTEND:20260425T220000Z
END:VEVENT
END:VCALENDAR