BEGIN:VCALENDAR
VERSION:2.0
PRODID:https://github.com/derhansen/sf_event_mgt
METHOD:PUBLISH
BEGIN:VEVENT
UID:14793-611@www.maine-et-loire.fr
CLASS: PUBLIC
SUMMARY:Tire la chasse d'eau !
DESCRIPTION:Dans le cadre des Rendez-vous nature 2026.\n\nUne fiole cachÃ©e
 , une enquÃªte trÃ¨s scientifique, des histoires au fil de lâ€˜eau... Une 
 balade animÃ©e oÃ¹ lâ€˜eau est abordÃ©e dans tous les sens. Objectifs : sâ
 €˜immerger dans lâ€™imaginaire, dÃ©couvrir le cycle de lâ€™eau autrement, 
 observer la biodiversitÃ© aquatique, apprendre en sâ€˜amusant. Contenu : U
 ne enquÃªte qui Ã  travers des contes, des expÃ©riences scientifiques, une
  pÃªche aux petites bÃªtes aquatiques nous explique le cycle de lâ€™eau. U
 ne balade thÃ©Ã¢tralisÃ©e oÃ¹ lâ€™eau est abordÃ©e dans tous les sens.
LOCATION:Aire de pique de la PrÃ©e d'Ã‰rignÃ©
DTSTAMP:20260209T153258Z
DTSTART:20260627T115539Z
DTEND:20260627T115539Z
END:VEVENT
END:VCALENDAR