BEGIN:VCALENDAR
VERSION:2.0
PRODID:https://github.com/derhansen/sf_event_mgt
METHOD:PUBLISH
BEGIN:VEVENT
UID:14203-569@www.maine-et-loire.fr
CLASS: PUBLIC
SUMMARY:Tournoi de belote
DESCRIPTION:Le club de handball de Montreuil-Juigné organise un tournoi de
  belote le vendredi 23 Janvier 2026.\n\nOuvert à tous.\n\nLots à gagner
LOCATION:Club house
13 rue David D'Angers
DTSTAMP:20251218T092319Z
DTSTART:20260122T230000Z
DTEND:20260122T230000Z
END:VEVENT
END:VCALENDAR