BEGIN:VCALENDAR
VERSION:2.0
PRODID:https://github.com/derhansen/sf_event_mgt
METHOD:PUBLISH
BEGIN:VEVENT
UID:14914-611@www.maine-et-loire.fr
CLASS: PUBLIC
SUMMARY:Tous aux abris !
DESCRIPTION:Dans le cadre des Rendez-vous nature 2026.\n\nLes petits oiseau
 x des jardins ont de plus en plus de mal à trouver des refuges et des end
 roits pour nicher. Venez construire des nichoirs pour les accueillir proch
 e de chez vous. Vous apprendrez les bons gestes pour protéger ces habitan
 ts de vos jardins.
LOCATION:Espace culturel L'ART.IMAGE
Chemin de Parthenay
DTSTAMP:20260209T154659Z
DTSTART:20261021T115540Z
DTEND:20261021T115540Z
END:VEVENT
END:VCALENDAR