BEGIN:VCALENDAR
VERSION:2.0
PRODID:https://github.com/derhansen/sf_event_mgt
METHOD:PUBLISH
BEGIN:VEVENT
UID:15262-569@www.maine-et-loire.fr
CLASS: PUBLIC
SUMMARY:Tout part en live
DESCRIPTION:Quand les projecteurs de la capitale s'invitent au beau milieu 
 des champs, le cocktail devient explosif !\n\nTom, chanteur pour midinette
 s en pleine tourmente médiatique, tente de faire oublier les rumeurs sur 
 sa vie privée en s'exilant dans sa province natale. Pour sauver les appar
 ences, il débarque avec une fiancée « alibi », starlette de télé-ré
 alité en manque de buzz. Son plan ? Se mettre au vert auprès de sa mère
  un peu perchée, de sa mamie flingueuse et d’un jardinier au charme... 
 très troublant.\n\nMais le repos est de courte durée. Entre une attaché
 e de presse déjantée qui déteste la nature et les caméras indiscrètes
  de l’émission Tonik12, la propriété familiale se transforme en plate
 au de tournage survolté. Pris au piège d’un dispositif médiatique san
 s limite, chacun va devenir, malgré lui, la star d'un show dévastateur.\
 n\nUne comédie déchaînée qui égratigne avec humour les dérives de la
  célébrité !
LOCATION:Maison pour Tous Monplaisir
3 rue de l'Écriture
DTSTAMP:20260326T141524Z
DTSTART:20261203T230000Z
DTEND:20261204T230000Z
END:VEVENT
END:VCALENDAR