BEGIN:VCALENDAR
VERSION:2.0
PRODID:https://github.com/derhansen/sf_event_mgt
METHOD:PUBLISH
BEGIN:VEVENT
UID:15041-1587@www.maine-et-loire.fr
CLASS: PUBLIC
SUMMARY:Tout semblait immobile
DESCRIPTION:L’artiste associée au Quai Nathalie Béasse propose une cré
 ation poétique mêlée d’humour. tout semblait immobile est une expéri
 ence sensorielle où la matière est reine et qui nous invite à un lâche
 r-prise physique et imaginaire.
LOCATION:Le Quai CDN
Cale de la Savatte
DTSTAMP:20260203T132648Z
DTSTART:20260505T170000Z
DTEND:20260507T180000Z
END:VEVENT
END:VCALENDAR