BEGIN:VCALENDAR
VERSION:2.0
PRODID:https://github.com/derhansen/sf_event_mgt
METHOD:PUBLISH
BEGIN:VEVENT
UID:14749-611@www.maine-et-loire.fr
CLASS: PUBLIC
SUMMARY:Traces et indices d'animaux
DESCRIPTION:Dans le cadre des Rendez-vous nature 2026.\n\nEntrez dans le rÃ
 ´le d'un enquÃªteur ou d'une enquÃªtrice pour recenser les indices laissÃ©
 s par les animaux qui vivent aux abords de la Mayenne et entraÃ®nez-vous Ã
   les reconnaÃ®tre.
LOCATION:Port Albert
DTSTAMP:20260209T152618Z
DTSTART:20260530T115539Z
DTEND:20260530T115539Z
END:VEVENT
END:VCALENDAR