BEGIN:VCALENDAR
VERSION:2.0
PRODID:https://github.com/derhansen/sf_event_mgt
METHOD:PUBLISH
BEGIN:VEVENT
UID:14257-570@www.maine-et-loire.fr
CLASS: PUBLIC
SUMMARY:Trajectoires
DESCRIPTION:Entre danse Hip-hop, burlesque et théâtre d'objets, Trajectoi
 res met en scènes 5 personnages dans des tableaux saisissants de poésie 
 et d'énergie.
LOCATION:Parvis de la salle Azura 2000
DTSTAMP:20260106T150532Z
DTSTART:20260522T220000Z
DTEND:20260522T220000Z
END:VEVENT
END:VCALENDAR