BEGIN:VCALENDAR
VERSION:2.0
PRODID:https://github.com/derhansen/sf_event_mgt
METHOD:PUBLISH
BEGIN:VEVENT
UID:15124-569@www.maine-et-loire.fr
CLASS: PUBLIC
SUMMARY:Troc boutures et plants de Saint-Lambert-du-Lattay
DESCRIPTION:L’association de la Maison de la Nature du Layon organise son
  troc bouture printanier le 26 avril de 10 h à 13 h. Il aura lieu à Sain
 t-Lambert-du-Lattay.\n\nNous sommes quelques passionnés de la nature et d
 u jardin qui organisons avec plaisir ce moment de convivialité et de renc
 ontres et serons ravis de vous accueillir pour échanger gratuitement plan
 ts, boutures, bulbes, graines mais aussi conseils et astuces de jardinage.
 \n\nN’hésitez pas à venir même si vous n’avez rien ou peu de choses
  à troquer.
LOCATION:Rue du Coteau des Martyrs
Saint-Lambert-du-Lattay
Derrière le musée du vin et de la Vigne
DTSTAMP:20260223T134848Z
DTSTART:20260425T220000Z
DTEND:20260425T220000Z
END:VEVENT
END:VCALENDAR