BEGIN:VCALENDAR
VERSION:2.0
PRODID:https://github.com/derhansen/sf_event_mgt
METHOD:PUBLISH
BEGIN:VEVENT
UID:15125-569@www.maine-et-loire.fr
CLASS: PUBLIC
SUMMARY:Trophée loire silure 2026
DESCRIPTION:Trophée Loire silure, plus grande compétitions de pêche au s
 ilure de France revient pour une nouvelle édition pleine de surprises .\n
 \nAu programme :\n\nPiscines a silures - découvrez ces géants de prêt !
 \n\nAnimations pour les enfants : taille de pierre de tuffeau, simulateur 
 de pêche et apprentissage de pêche au coup par la fédération de pèche
  du Maine et Loire.\n\nDémonstrations de matériels de pêche avec magasi
 n de vente sur place\n\nEssais de bateaux et d'électronique embarquée pa
 r l'entreprise navicom\n\nPrésence de nombreaux VIP : Mr jean claude tanz
 illi, xavier vella, maxime albert et lilian fautrelle, laurent ribeiro et 
 brahma, sombre pêche, yako, tony accart !\n\nBuvette et food truck pour s
 e régaler toute la journée\n\nSans oublier sa célèbre soirée moules f
 rites à partir de 19h avec DJ set pour prolonger la fête en soirée.\n\n
 Que vous soyez passionné de pêche, curieux, ou en famille, venez vivre u
 ne expérience unique au bord de Loire dans une ambiance guinguette conviv
 iale ! rencontres, sensations et découvertes garanties.
LOCATION:Cale de gennes
DTSTAMP:20260223T152018Z
DTSTART:20260703T220000Z
DTEND:20260704T220000Z
END:VEVENT
END:VCALENDAR