BEGIN:VCALENDAR
VERSION:2.0
PRODID:https://github.com/derhansen/sf_event_mgt
METHOD:PUBLISH
BEGIN:VEVENT
UID:14909-611@www.maine-et-loire.fr
CLASS: PUBLIC
SUMMARY:Tu te tresses toi ?
DESCRIPTION:Dans le cadre des Rendez-vous nature 2026.\n\nChristelle vous f
 era découvrir les végétaux qui se tressent et vous initiera aux premier
 s gestes de vannerie pour donner naissance à des objets uniques, fruits d
 e la nature et de votre créativité.
LOCATION:Maison de l'environnement
DTSTAMP:20260209T154632Z
DTSTART:20261020T115540Z
DTEND:20261020T115540Z
END:VEVENT
END:VCALENDAR