BEGIN:VCALENDAR
VERSION:2.0
PRODID:https://github.com/derhansen/sf_event_mgt
METHOD:PUBLISH
BEGIN:VEVENT
UID:15313-569@www.maine-et-loire.fr
CLASS: PUBLIC
SUMMARY:Un Ã©vÃ©nement thÃ©Ã¢tral: MACBETH de SHAKESPEARE au PrieurÃ© du Breuil-Bellay!
DESCRIPTION:MACBETH sera reprÃ©sentÃ© dimanche 26 avril prochain sous la vo
 Ã»te de l'antique chapelle du prieurÃ© du Breuil-Bellay Ã  CIZAY LA MADELE
 INE. Le texte de SHAKESPEARE a Ã©tÃ© adaptÃ© par un metteur en scÃ¨ne reco
 nnu pour Ãªtre rendu plus abordable. Un grand moment de thÃ©Ã¢tre en persp
 ective!\n\nLa vÃ©nÃ©rable chapelle du PrieurÃ© du Breuil-Bellay (dÃ©but du
  XIIIÃ¨me siÃ¨cle) sera dimanche 26 avril prochain Ã  15h00 le Â« thÃ©Ã¢tr
 e Â» (!) d'une reprÃ©sentation exceptionnelle de MACBETH, la cÃ©lÃ¨bre piÃ
 ¨ce de Shakespeare. La compagnie chartraine Â« COMME SI C'Ã‰TAIT VRAI Â» ,
  Ã  la manÅ“uvre pour l'occasion, en proposera une version revisitÃ©e par 
 le talentueux metteur en scÃ¨ne parisien Patrice MARIE.\n\nCe dÃ©miurge a 
 mÃ©tamorphosÃ© ce drame de Shakespeare en un thriller haletant. Sans pour 
 autant trahir l'auteur, il a su rendre l'Ã©criture shakespearienne accessi
 ble au spectateur d'aujourd'hui. Dans le mÃªme esprit et histoire de souli
 gner l'universalitÃ© de son propos, il a souhaitÃ© que la piÃ¨ce soit jouÃ
 ©e en costumes contemporains.\n\nSous le regard Ã  la fois fascinÃ© et hor
 rifiÃ© du public, un drame va se jouer : Macbeth, le hÃ©ros, sera poussÃ© 
 au crime par Lady Macbeth, son Ã©pouse, et se trouvera pris dans un vÃ©rit
 able engrenage de meurtres...\n\nÂ« J'ai marchÃ© si loin dans le sang que 
 j'aurai autant de peine Ã  retourner qu'Ã  avancer. Â»\n\nÃ€ l'issue du co
 ncert et pour ne pas dÃ©roger Ã  une tradition gourmande dÃ©sormais solide
 ment installÃ©e, le public pourra partager ses ressentis et approcher les 
 comÃ©diens tout en savourant quelques bulles offertes par l'Association de
 s Amis du PrieurÃ©. Pour les accompagner, chacun, sâ€™il le souhaite, pour
 ra apporter une douceur de sa fabrication.\n\nRÃ©servations: Tel 06 63 07 
 60 43 ou, par mail: prieuredebreuilbellay@gmail.com\n\n\n\n\n\n
LOCATION:PrieurÃ© du Breuil-Bellay 
CIZAY La MADELEINE 
(Ã  7kms au sud de Saumur en direction de DouÃ© La Fontaine)
DTSTAMP:20260420T091249Z
DTSTART:20260425T220000Z
DTEND:20260425T220000Z
END:VEVENT
END:VCALENDAR