BEGIN:VCALENDAR
VERSION:2.0
PRODID:https://github.com/derhansen/sf_event_mgt
METHOD:PUBLISH
BEGIN:VEVENT
UID:13747-570@www.maine-et-loire.fr
CLASS: PUBLIC
SUMMARY:Un jour Ã  Cuba
DESCRIPTION:Les ateliers comÃ©dies musicales vont se retrouver avec des chÅ
 “urs dâ€™Ã©cole et lâ€™ensemble instrumental des professeurs de lâ€™Ã©cole
  de musique pour fÃªter Cuba : venez chanter et danser avec nous !
LOCATION:12 L'Argerie
Le Louroux-BÃ©connais
DTSTAMP:20250701T071018Z
DTSTART:20260626T220000Z
DTEND:20260626T220000Z
END:VEVENT
END:VCALENDAR