BEGIN:VCALENDAR
VERSION:2.0
PRODID:https://github.com/derhansen/sf_event_mgt
METHOD:PUBLISH
BEGIN:VEVENT
UID:15255-570@www.maine-et-loire.fr
CLASS: PUBLIC
SUMMARY:Une histoire de paradis
DESCRIPTION:Plongez avec nous dans ce monde fantasmé, drôle et émerveill
 é où rêves et réalité se rencontrent. Un conte accessible à toute la
  famille !
LOCATION:Maison du Théâtre
8 rue Célestine Garnier
Fontaine-Guérin
DTSTAMP:20260326T140409Z
DTSTART:20260813T220000Z
DTEND:20260825T220000Z
END:VEVENT
END:VCALENDAR