BEGIN:VCALENDAR
VERSION:2.0
PRODID:https://github.com/derhansen/sf_event_mgt
METHOD:PUBLISH
BEGIN:VEVENT
UID:14906-611@www.maine-et-loire.fr
CLASS: PUBLIC
SUMMARY:Vannerie bucolique
DESCRIPTION:Dans le cadre des Rendez-vous nature 2026.\n\nLors de cet ateli
 er en deux temps, il vous sera proposé une courte balade pour de découvr
 ir les plantes sauvages utilisables en vannerie et tressage buissonnier. P
 uis, vous pourrez vous initier à la vannerie et repartir avec votre créa
 tion. Le groupe sera séparé en deux afin de permettre un échange plus p
 rivilégié. Une partie balade, repérage et glanage de matériel végéta
 l et une partie mise en pratique avec réalisation d’une vannerie simple
 . Les groupes seront intervertis en cours d’animation.
LOCATION:La Monnière
1574 route des Landes
DTSTAMP:20260209T154614Z
DTSTART:20261018T115540Z
DTEND:20261018T115540Z
END:VEVENT
END:VCALENDAR