BEGIN:VCALENDAR
VERSION:2.0
PRODID:https://github.com/derhansen/sf_event_mgt
METHOD:PUBLISH
BEGIN:VEVENT
UID:14895-611@www.maine-et-loire.fr
CLASS: PUBLIC
SUMMARY:Vannerie buissonnière Hyrôme
DESCRIPTION:Dans le cadre des Rendez-vous nature 2026.\n\nBalade dans la va
 llée de l'Hyrôme à la découverte des végétaux, souvent méconnus, pr
 ésents abondamment et pouvant être utilisés en vannerie buissonnière (
 sauvage). Cette vannerie ancienne nous relie aux gestes premiers de tressa
 ge et tissage de végétaux qui permettent de fabriquer des contenants, de
 s cordages. L'animatrice fera découvrir au public ces végétaux poussant
  au sein de l'ENS de l'Hyrôme. Puis, après cueillette des végétaux, ch
 aque participant créera, puis repartira avec un petit objet.
LOCATION:16 rue de la Coudraye
DTSTAMP:20260209T154444Z
DTSTART:20261003T115540Z
DTEND:20261003T115540Z
END:VEVENT
END:VCALENDAR