BEGIN:VCALENDAR
VERSION:2.0
PRODID:https://github.com/derhansen/sf_event_mgt
METHOD:PUBLISH
BEGIN:VEVENT
UID:14712-611@www.maine-et-loire.fr
CLASS: PUBLIC
SUMMARY:Vannerie et jouets buissonniers
DESCRIPTION:Dans le cadre des Rendez-vous nature 2026.\n\nLaetitia et Amél
 ie vous invitent à venir découvrir les végétaux sauvages pour pouvoir 
 vous initier à la vannerie buissonnière et à la fabrication de jouets b
 uissonniers.
LOCATION:Centre aéré du chêne fournier
DTSTAMP:20260209T152203Z
DTSTART:20260503T115539Z
DTEND:20260503T115539Z
END:VEVENT
END:VCALENDAR