BEGIN:VCALENDAR
VERSION:2.0
PRODID:https://github.com/derhansen/sf_event_mgt
METHOD:PUBLISH
BEGIN:VEVENT
UID:14189-569@www.maine-et-loire.fr
CLASS: PUBLIC
SUMMARY:Vilaine
DESCRIPTION:Concert de chants polyphoniques.\n\nEnsemble polyphonique fémi
 nin de Haute-Bretagne. VILAINE met en valeur, défend, porte la force et l
 a beauté des femmes d'hier et d'aujourd'hui.\n\nDes chants originaux bret
 ons, occitans, alsaciens, corses…laissez-vous surprendre par leurs timbr
 es vibrants et puissants.
LOCATION:Centre Culturel René d'Anjou
Salle Altréa
4 place Orgerie
DTSTAMP:20251209T093514Z
DTSTART:20260528T220000Z
DTEND:20260528T220000Z
END:VEVENT
END:VCALENDAR