BEGIN:VCALENDAR
VERSION:2.0
PRODID:https://github.com/derhansen/sf_event_mgt
METHOD:PUBLISH
BEGIN:VEVENT
UID:15027-1587@www.maine-et-loire.fr
CLASS: PUBLIC
SUMMARY:Visite du THV â€“ SpÃ©ciale jeune public
DESCRIPTION:Le thÃ©Ã¢tre ouvre de nouveau grand ses portes pour une visite 
 pas comme les autres : ce sont les enfants qui mÃ¨nent la danse ! Le group
 e des InfiltrÃ©Â·es â€” de jeunes curieux et curieuses qui accompagnent lâ
 €™Ã©quipe du THV toute lâ€™annÃ©e â€” entraÃ®ne les familles dans une expl
 oration pleine de surprises, spÃ©cialement imaginÃ©e par des enfants, pour
  des enfantsâ€¦ et les adultes qui les accompagnent. PrÃ©parez-vous Ã  plo
 nger dans les coulisses, Ã  dÃ©couvrir des lieux cachÃ©s, parfois secrets,
  souvent farfelus : dâ€™un mystÃ©rieux Â« sous-marin Â» Ã  un local qui se
 nt un peu bizarreâ€¦ chaque recoin devient une aventure. Une visite ludiqu
 e, dÃ©calÃ©e et pleine dâ€™imagination, oÃ¹ le thÃ©Ã¢tre se dÃ©voile autre
 ment, Ã  hauteur dâ€™enfant.
LOCATION:THV
1 rue Jean Gilles
DTSTAMP:20260203T134348Z
DTSTART:20260530T090000Z
DTEND:20260530T101500Z
END:VEVENT
END:VCALENDAR