BEGIN:VCALENDAR
VERSION:2.0
PRODID:https://github.com/derhansen/sf_event_mgt
METHOD:PUBLISH
BEGIN:VEVENT
UID:12362-569@www.maine-et-loire.fr
CLASS: PUBLIC
SUMMARY:Visite guidÃ©e de Dampierre-sur-Loire
DESCRIPTION:SituÃ© Ã  4 km Ã  l'est de Saumur, Dampierre s'est dÃ©veloppÃ© 
 le long du coteau, entre Loire et plateau. La visite ponctuÃ©e de halte pr
 Ã©sentera l'histoire de la commune Ã  travers son architecture et ses pays
 ages.\n\nVisite guidÃ©e par Clarisse Lorieux, chercheuse de l'Inventaire Ã
   la rÃ©gion des Pays de la Loire et chargÃ©e de l'Ã©tude du coteau saumur
 ois
LOCATION:RDV sur le parking face au restaurant lâ€™Amuse-Bouche
49400 - Dampierre-sur-Loire
512 Route de Montsoreau
DTSTAMP:20240910T121049Z
DTSTART:20240921T220000Z
DTEND:20240921T220000Z
END:VEVENT
END:VCALENDAR