BEGIN:VCALENDAR
VERSION:2.0
PRODID:https://github.com/derhansen/sf_event_mgt
METHOD:PUBLISH
BEGIN:VEVENT
UID:14961-569@www.maine-et-loire.fr
CLASS: PUBLIC
SUMMARY:Vivantes - Cie Brumes
DESCRIPTION:Un appel Ã  interroger la nature et sa fragilitÃ©...\n\nÃ€ la t
 ombÃ©e de la nuit, 6 musiciennes et comÃ©diennes nous plongent au cÅ“ur dâ
 €™un espace naturel. Une soirÃ©e mÃªlant textes, musique, extraits de film
 s en Super 8, broderie et dÃ©gustations.
LOCATION:Graine de Mauges
520 Le Grand Vernon
Jallais
DTSTAMP:20260123T150139Z
DTSTART:20260529T220000Z
DTEND:20260529T220000Z
END:VEVENT
END:VCALENDAR