BEGIN:VCALENDAR
VERSION:2.0
PRODID:https://github.com/derhansen/sf_event_mgt
METHOD:PUBLISH
BEGIN:VEVENT
UID:14722-611@www.maine-et-loire.fr
CLASS: PUBLIC
SUMMARY:Vive le printemps !
DESCRIPTION:Dans le cadre des Rendez-vous nature 2026.\n\nDécouverte senso
 rielle en pleine nature pour les tout-petits : manipulation, jeu et compti
 ne pour découvrir la nature au fil des saisons
LOCATION:Parking visiteurs du Parc
DTSTAMP:20260209T152353Z
DTSTART:20260511T115539Z
DTEND:20260511T115539Z
END:VEVENT
END:VCALENDAR