BEGIN:VCALENDAR
VERSION:2.0
PRODID:https://github.com/derhansen/sf_event_mgt
METHOD:PUBLISH
BEGIN:VEVENT
UID:14927-569@www.maine-et-loire.fr
CLASS: PUBLIC
SUMMARY:Vos soirées d’exception
DESCRIPTION:6 vendredis soirs estivaux, profitez de l’ouverture du Cratè
 re des Carnivores et des grandes volières du parc jusqu’à 22 h pour ob
 server le comportement de nos animaux à l’heure où le soleil rejoint l
 ’horizon.
LOCATION:Bioparc de Doué-la-Fontaine 
103 Rue de Cholet
DTSTAMP:20260120T155906Z
DTSTART:20260716T220000Z
DTEND:20260820T220000Z
END:VEVENT
END:VCALENDAR