BEGIN:VCALENDAR
VERSION:2.0
PRODID:https://github.com/derhansen/sf_event_mgt
METHOD:PUBLISH
BEGIN:VEVENT
UID:14737-611@www.maine-et-loire.fr
CLASS: PUBLIC
SUMMARY:Vous dites Papillon de nuit ? 
DESCRIPTION:Dans le cadre des Rendez-vous nature 2026.\n\nPeu connus du gra
 nd public et pourtant bien plus nombreux que les « papillons de jour », 
 les « papillons de nuit » ou plutôt « hétérocères » sont fascinant
 s. Venez découvrir, autour d'un piège lumineux, les magnifiques dessins 
 et les couleurs chatoyantes qui ornent leurs ailes, leurs mœurs, leurs gr
 andes familles, et tout un tas d'anecdotes... Vous ne serez pas déçus !\
 n\nPrévoir chaussures de marche et vêtements adaptés à la météo.
LOCATION:Carrefour du Roi René
Le Guédeniau
DTSTAMP:20260209T152513Z
DTSTART:20260523T115539Z
DTEND:20260523T115539Z
END:VEVENT
END:VCALENDAR