BEGIN:VCALENDAR
VERSION:2.0
PRODID:https://github.com/derhansen/sf_event_mgt
METHOD:PUBLISH
BEGIN:VEVENT
UID:15317-570@www.maine-et-loire.fr
CLASS: PUBLIC
SUMMARY:Yaga
DESCRIPTION:Entre humour, conte et musique, la pièce réinvente la figure 
 de Baba Yaga et interroge ce que nous choisissons de croire ou de transfor
 mer.
LOCATION:parc de la Croix Verte
DTSTAMP:20260422T070434Z
DTSTART:20260626T220000Z
DTEND:20260703T220000Z
END:VEVENT
END:VCALENDAR